BEGIN:VCALENDAR
VERSION:2.0
PRODID:-//Foundation First - ECPv6.15.20//NONSGML v1.0//EN
CALSCALE:GREGORIAN
METHOD:PUBLISH
X-WR-CALNAME:Foundation First
X-ORIGINAL-URL:https://foundationfirstva.org
X-WR-CALDESC:Events for Foundation First
REFRESH-INTERVAL;VALUE=DURATION:PT1H
X-Robots-Tag:noindex
X-PUBLISHED-TTL:PT1H
BEGIN:VTIMEZONE
TZID:America/New_York
BEGIN:DAYLIGHT
TZOFFSETFROM:-0500
TZOFFSETTO:-0400
TZNAME:EDT
DTSTART:20230312T070000
END:DAYLIGHT
BEGIN:STANDARD
TZOFFSETFROM:-0400
TZOFFSETTO:-0500
TZNAME:EST
DTSTART:20231105T060000
END:STANDARD
BEGIN:DAYLIGHT
TZOFFSETFROM:-0500
TZOFFSETTO:-0400
TZNAME:EDT
DTSTART:20240310T070000
END:DAYLIGHT
BEGIN:STANDARD
TZOFFSETFROM:-0400
TZOFFSETTO:-0500
TZNAME:EST
DTSTART:20241103T060000
END:STANDARD
BEGIN:DAYLIGHT
TZOFFSETFROM:-0500
TZOFFSETTO:-0400
TZNAME:EDT
DTSTART:20250309T070000
END:DAYLIGHT
BEGIN:STANDARD
TZOFFSETFROM:-0400
TZOFFSETTO:-0500
TZNAME:EST
DTSTART:20251102T060000
END:STANDARD
END:VTIMEZONE
BEGIN:VEVENT
DTSTART;TZID=America/New_York:20240413T083000
DTEND;TZID=America/New_York:20240413T130000
DTSTAMP:20260420T135548
CREATED:20240829T204241Z
LAST-MODIFIED:20240829T204242Z
UID:10000031-1712997000-1713013200@foundationfirstva.org
SUMMARY:Trauma\, the Brain\, and Hope: Implications for Professional Practice A professional development workshop with Jessica Sinarski
DESCRIPTION:Join us in our office at 10304 Eaton Place\, Fairfax for this professional workshop.\n\n \n\nKids with tough histories often exhibit some “tough” behaviors\, like opposition\, aggression\, and defiance. It’s a brain thing! In this professional development workshop with Jessica Sinarski\, discover the hopeful side of neuroscience\, with plenty of user-friendly applications for all ages.\n\n \n\nhttps://bit.ly/profworkshop24
URL:https://foundationfirstva.org/event/trauma-the-brain-and-hope-implications-for-professional-practice-a-professional-development-workshop-with-jessica-sinarski/
CATEGORIES:Programs & Teachers
END:VEVENT
END:VCALENDAR