BEGIN:VCALENDAR
VERSION:2.0
PRODID:-//Foundation First - ECPv6.15.20//NONSGML v1.0//EN
CALSCALE:GREGORIAN
METHOD:PUBLISH
X-ORIGINAL-URL:https://foundationfirstva.org
X-WR-CALDESC:Events for Foundation First
REFRESH-INTERVAL;VALUE=DURATION:PT1H
X-Robots-Tag:noindex
X-PUBLISHED-TTL:PT1H
BEGIN:VTIMEZONE
TZID:America/New_York
BEGIN:DAYLIGHT
TZOFFSETFROM:-0500
TZOFFSETTO:-0400
TZNAME:EDT
DTSTART:20230312T070000
END:DAYLIGHT
BEGIN:STANDARD
TZOFFSETFROM:-0400
TZOFFSETTO:-0500
TZNAME:EST
DTSTART:20231105T060000
END:STANDARD
BEGIN:DAYLIGHT
TZOFFSETFROM:-0500
TZOFFSETTO:-0400
TZNAME:EDT
DTSTART:20240310T070000
END:DAYLIGHT
BEGIN:STANDARD
TZOFFSETFROM:-0400
TZOFFSETTO:-0500
TZNAME:EST
DTSTART:20241103T060000
END:STANDARD
BEGIN:DAYLIGHT
TZOFFSETFROM:-0500
TZOFFSETTO:-0400
TZNAME:EDT
DTSTART:20250309T070000
END:DAYLIGHT
BEGIN:STANDARD
TZOFFSETFROM:-0400
TZOFFSETTO:-0500
TZNAME:EST
DTSTART:20251102T060000
END:STANDARD
END:VTIMEZONE
BEGIN:VEVENT
DTSTART;TZID=America/New_York:20240504T140000
DTEND;TZID=America/New_York:20240504T160000
DTSTAMP:20260420T115929
CREATED:20240829T204217Z
LAST-MODIFIED:20240829T204218Z
UID:10000033-1714831200-1714838400@foundationfirstva.org
SUMMARY:Family Touch-a-Truck and Expo
DESCRIPTION:Free Family Fun! A great time for families to visit fire trucks\, dump truck\, ambulances\, tow trucks and more while connecting with area resources! There will be children’s activities\, food and a bouncy house! Kona Ice is at cost and tickets for Culpeper Foster Care’s Raffle are at a cost.
URL:https://foundationfirstva.org/event/family-touch-a-truck-and-expo/
LOCATION:Culpeper Baptist Church\, 318 S West Street\, Culpeper\, VA\, United States
CATEGORIES:Family Events
ATTACH;FMTTYPE=image/jpeg:https://foundationfirstva.org/wp-content/uploads/2024/03/touchatruck.jpg
END:VEVENT
BEGIN:VEVENT
DTSTART;TZID=America/New_York:20240515T130000
DTEND;TZID=America/New_York:20240515T140000
DTSTAMP:20260420T115929
CREATED:20240829T204202Z
LAST-MODIFIED:20240829T204203Z
UID:10000038-1715778000-1715781600@foundationfirstva.org
SUMMARY:Webinar: The Impact of Raciolinguistic Bias in Early Childhood Classrooms: A Panel Discussion
DESCRIPTION:In this panel discussion\, participants will share their own experiences with raciolinguistic bias and examine its existence in early childhood classrooms.  Learn more – https://sflece.org/page/webinars
URL:https://foundationfirstva.org/event/webinar-the-impact-of-raciolinguistic-bias-in-early-childhood-classrooms-a-panel-discussion/
CATEGORIES:Programs & Teachers
END:VEVENT
BEGIN:VEVENT
DTSTART;TZID=America/New_York:20240527T000000
DTEND;TZID=America/New_York:20240527T235959
DTSTAMP:20260420T115929
CREATED:20231220T211018Z
LAST-MODIFIED:20231220T211020Z
UID:10000017-1716768000-1716854399@foundationfirstva.org
SUMMARY:Foundation First Offices Closed
DESCRIPTION:
URL:https://foundationfirstva.org/event/foundation-first-offices-closed-2/
CATEGORIES:Offices Closed
END:VEVENT
END:VCALENDAR