BEGIN:VCALENDAR
VERSION:2.0
PRODID:-//Foundation First - ECPv6.15.20//NONSGML v1.0//EN
CALSCALE:GREGORIAN
METHOD:PUBLISH
X-WR-CALNAME:Foundation First
X-ORIGINAL-URL:https://foundationfirstva.org
X-WR-CALDESC:Events for Foundation First
REFRESH-INTERVAL;VALUE=DURATION:PT1H
X-Robots-Tag:noindex
X-PUBLISHED-TTL:PT1H
BEGIN:VTIMEZONE
TZID:America/New_York
BEGIN:DAYLIGHT
TZOFFSETFROM:-0500
TZOFFSETTO:-0400
TZNAME:EDT
DTSTART:20230312T070000
END:DAYLIGHT
BEGIN:STANDARD
TZOFFSETFROM:-0400
TZOFFSETTO:-0500
TZNAME:EST
DTSTART:20231105T060000
END:STANDARD
BEGIN:DAYLIGHT
TZOFFSETFROM:-0500
TZOFFSETTO:-0400
TZNAME:EDT
DTSTART:20240310T070000
END:DAYLIGHT
BEGIN:STANDARD
TZOFFSETFROM:-0400
TZOFFSETTO:-0500
TZNAME:EST
DTSTART:20241103T060000
END:STANDARD
BEGIN:DAYLIGHT
TZOFFSETFROM:-0500
TZOFFSETTO:-0400
TZNAME:EDT
DTSTART:20250309T070000
END:DAYLIGHT
BEGIN:STANDARD
TZOFFSETFROM:-0400
TZOFFSETTO:-0500
TZNAME:EST
DTSTART:20251102T060000
END:STANDARD
END:VTIMEZONE
BEGIN:VEVENT
DTSTART;TZID=America/New_York:20241003T080000
DTEND;TZID=America/New_York:20241003T170000
DTSTAMP:20260422T050133
CREATED:20240913T130709Z
LAST-MODIFIED:20240913T130711Z
UID:10000057-1727942400-1727974800@foundationfirstva.org
SUMMARY:PreK CLASS® Training
DESCRIPTION:Foundation First\, Lead Agency for Ready Region North Central will be conducting a Virtual PreK CLASS® Observer Training on October 2nd and 3rd 2024 from 8:30 am – 4:30 pm. Registration must be completed by September 27th. This will allow for materials to be ordered and sent to the trainer in a timely manner. To ensure you don’t miss this amazing opportunity sign up today!\n\nFoundation First_Trainings | Linktree
URL:https://foundationfirstva.org/event/prek-class-training/2024-10-03/
ORGANIZER;CN="Feel free to reach out to Courtney Vogenitz with any questions":MAILTO:observerspecialist@foundationfirstva.org
END:VEVENT
BEGIN:VEVENT
DTSTART;TZID=America/New_York:20241002T000000
DTEND;TZID=America/New_York:20241002T235959
DTSTAMP:20260422T050133
CREATED:20240913T130709Z
LAST-MODIFIED:20240913T130711Z
UID:10000056-1727827200-1727913599@foundationfirstva.org
SUMMARY:PreK CLASS® Training
DESCRIPTION:Foundation First\, Lead Agency for Ready Region North Central will be conducting a Virtual PreK CLASS® Observer Training on October 2nd and 3rd 2024 from 8:30 am – 4:30 pm. Registration must be completed by September 27th. This will allow for materials to be ordered and sent to the trainer in a timely manner. To ensure you don’t miss this amazing opportunity sign up today!\n\nFoundation First_Trainings | Linktree
URL:https://foundationfirstva.org/event/prek-class-training/2024-10-02/
ORGANIZER;CN="Feel free to reach out to Courtney Vogenitz with any questions":MAILTO:observerspecialist@foundationfirstva.org
END:VEVENT
BEGIN:VEVENT
DTSTART;TZID=America/New_York:20240127T083000
DTEND;TZID=America/New_York:20240128T163000
DTSTAMP:20260422T050133
CREATED:20231220T192647Z
LAST-MODIFIED:20231220T200929Z
UID:10000006-1706344200-1706459400@foundationfirstva.org
SUMMARY:In-Person Toddler CLASS® Observer Training
DESCRIPTION:To attain certification as a CLASS® Observer\, it is essential to possess a comprehensive understanding of the CLASS® tool. This involves successfully completing a 2-day training session and passing a reliability test post-training. Attendance and active participation on both days are mandatory for all participants. Once certified as an Infant CLASS® Observer\, responsibilities include conducting CLASS® observations\, coding the observations\, entering scores into LinkB5\, and delivering constructive feedback to classroom teachers.
URL:https://foundationfirstva.org/event/in-person-toddler-class-observer-training/
LOCATION:RAP Office\, 10718 Ballantraye Dr. Suite 402\, Fredericksburg\, Virginia\, 22407
CATEGORIES:Programs & Teachers
ORGANIZER;CN="Feel free to reach out to Courtney Vogenitz with any questions":MAILTO:observerspecialist@foundationfirstva.org
END:VEVENT
END:VCALENDAR