BEGIN:VCALENDAR
VERSION:2.0
PRODID:-//Foundation First - ECPv6.15.20//NONSGML v1.0//EN
CALSCALE:GREGORIAN
METHOD:PUBLISH
X-ORIGINAL-URL:https://foundationfirstva.org
X-WR-CALDESC:Events for Foundation First
REFRESH-INTERVAL;VALUE=DURATION:PT1H
X-Robots-Tag:noindex
X-PUBLISHED-TTL:PT1H
BEGIN:VTIMEZONE
TZID:America/New_York
BEGIN:DAYLIGHT
TZOFFSETFROM:-0500
TZOFFSETTO:-0400
TZNAME:EDT
DTSTART:20230312T070000
END:DAYLIGHT
BEGIN:STANDARD
TZOFFSETFROM:-0400
TZOFFSETTO:-0500
TZNAME:EST
DTSTART:20231105T060000
END:STANDARD
BEGIN:DAYLIGHT
TZOFFSETFROM:-0500
TZOFFSETTO:-0400
TZNAME:EDT
DTSTART:20240310T070000
END:DAYLIGHT
BEGIN:STANDARD
TZOFFSETFROM:-0400
TZOFFSETTO:-0500
TZNAME:EST
DTSTART:20241103T060000
END:STANDARD
BEGIN:DAYLIGHT
TZOFFSETFROM:-0500
TZOFFSETTO:-0400
TZNAME:EDT
DTSTART:20250309T070000
END:DAYLIGHT
BEGIN:STANDARD
TZOFFSETFROM:-0400
TZOFFSETTO:-0500
TZNAME:EST
DTSTART:20251102T060000
END:STANDARD
END:VTIMEZONE
BEGIN:VEVENT
DTSTART;TZID=America/New_York:20241003T170000
DTEND;TZID=America/New_York:20241003T190000
DTSTAMP:20260421T121150
CREATED:20240821T155307Z
LAST-MODIFIED:20240821T155309Z
UID:10000053-1727974800-1727982000@foundationfirstva.org
SUMMARY:Family Resource Fair
DESCRIPTION:Manassas Park Community Center and Foundation First are teaming up to host a Resource Fair for families to come and learn about the countless\, amazing resources within the Prince William area.
URL:https://foundationfirstva.org/event/family-resource-fair/
LOCATION:Manassas PArk Community Center\, 99 Adams Street\, Manassas Park\, VA 20111\, Manassas Park\, 20111\, United States
END:VEVENT
END:VCALENDAR